BEGIN:VCALENDAR
VERSION:2.0
PRODID:-//eventon.com NONSGML v1.0//EN
BEGIN:VEVENT
UID:69e63e1569f2e
DTSTAMP:20260420T105413
DTSTART:20251125T223000Z
DTEND:20251126T035000Z
LOCATION:Royal City Nursery 6838 Wellington Road 124 Guelph\,  Ontario\,  N1H 6J4
SUMMARY:Workshop: Seasonal Welcome Planter
DESCRIPTION: Calling all creatives! Set the tone this holiday season & elevate your front entryway by creating your very own seasonal welcome planter. Fill your home with the aromatic scent of holiday greens & decorate accordingly to suit your colour scheme & desired look. This festive piece will be perfect for[..]
END:VEVENT
END:VCALENDAR