BEGIN:VCALENDAR
VERSION:2.0
PRODID:-//eventon.com NONSGML v1.0//EN
BEGIN:VEVENT
UID:69e8f8ed56c13
DTSTAMP:20260422T123557
DTSTART:20251004T140000Z
DTEND:20251005T200000Z
LOCATION:Royal City Nursery 6838 Wellington Road 124 Guelph\,  Ontario\,  N1H 6J4
SUMMARY:Book Club Vendor Market: Ink & Ivy
DESCRIPTION: Ink & Ivy is a one-of-a-kind autumn market that blends the nostalgia of a Scholastic book fair with the moody aesthetic of the fall season. Hosted inside the greenhouse at Royal City Nursery\,  this two-day event is the perfect autumn outing for readers\,  makers\,  and anyone who loves bookish vibes.
END:VEVENT
END:VCALENDAR