BEGIN:VCALENDAR
VERSION:2.0
PRODID:-//Royal City Nursery - ECPv6.15.13//NONSGML v1.0//EN
CALSCALE:GREGORIAN
METHOD:PUBLISH
X-ORIGINAL-URL:https://royalcitynursery.com
X-WR-CALDESC:Events for Royal City Nursery
REFRESH-INTERVAL;VALUE=DURATION:PT1H
X-Robots-Tag:noindex
X-PUBLISHED-TTL:PT1H
BEGIN:VTIMEZONE
TZID:America/Toronto
BEGIN:DAYLIGHT
TZOFFSETFROM:-0500
TZOFFSETTO:-0400
TZNAME:EDT
DTSTART:20250309T070000
END:DAYLIGHT
BEGIN:STANDARD
TZOFFSETFROM:-0400
TZOFFSETTO:-0500
TZNAME:EST
DTSTART:20251102T060000
END:STANDARD
BEGIN:DAYLIGHT
TZOFFSETFROM:-0500
TZOFFSETTO:-0400
TZNAME:EDT
DTSTART:20260308T070000
END:DAYLIGHT
BEGIN:STANDARD
TZOFFSETFROM:-0400
TZOFFSETTO:-0500
TZNAME:EST
DTSTART:20261101T060000
END:STANDARD
BEGIN:DAYLIGHT
TZOFFSETFROM:-0500
TZOFFSETTO:-0400
TZNAME:EDT
DTSTART:20270314T070000
END:DAYLIGHT
BEGIN:STANDARD
TZOFFSETFROM:-0400
TZOFFSETTO:-0500
TZNAME:EST
DTSTART:20271107T060000
END:STANDARD
END:VTIMEZONE
BEGIN:VEVENT
DTSTART;TZID=America/Toronto:20260322T090000
DTEND;TZID=America/Toronto:20260322T100000
DTSTAMP:20260423T063941
CREATED:20260218T195330Z
LAST-MODIFIED:20260310T135249Z
UID:706962-1774170000-1774173600@royalcitynursery.com
SUMMARY:Yoga in the Tropical Greenhouse
DESCRIPTION:Immerse yourself in a brief tropical getaway with this unique\, one-hour yoga class. Relax and enjoy the warmth\, natural lighting\, vibrant plants\, and heated floors in our greenhouse. \nClass Description\nJoin Rhonda for a style of yoga that integrates breath-led flow\, functional and safe alignment\, and mindful transitions. Her approach emphasizes cultivating presence in a nature-like setting. \nMaximum 12 participants per class. \n  \nAbout the Instructor\nRhonda McMahon is a certified yoga teacher and avid outdoors person. She has over 20 years of experience with teaching and professional development in Hatha\, YIN\, Kripula\, Trauma-informed\, and Restorative Yoga. \n  \nQuestions? Contact marketing@royalcitynursery.com
URL:https://royalcitynursery.com/event/yoga-in-tropical-greenhouse-mindfulness-march22/
LOCATION:Royal City Nursery\, 6838 Wellington Road 124\, Guelph\, Ontario\, N1H 6J4\, Canada
CATEGORIES:Workshop,Yoga
END:VEVENT
END:VCALENDAR