BEGIN:VCALENDAR
VERSION:2.0
PRODID:-//Royal City Nursery - ECPv6.15.13//NONSGML v1.0//EN
CALSCALE:GREGORIAN
METHOD:PUBLISH
X-ORIGINAL-URL:https://royalcitynursery.com
X-WR-CALDESC:Events for Royal City Nursery
REFRESH-INTERVAL;VALUE=DURATION:PT1H
X-Robots-Tag:noindex
X-PUBLISHED-TTL:PT1H
BEGIN:VTIMEZONE
TZID:America/Toronto
BEGIN:DAYLIGHT
TZOFFSETFROM:-0500
TZOFFSETTO:-0400
TZNAME:EDT
DTSTART:20250309T070000
END:DAYLIGHT
BEGIN:STANDARD
TZOFFSETFROM:-0400
TZOFFSETTO:-0500
TZNAME:EST
DTSTART:20251102T060000
END:STANDARD
BEGIN:DAYLIGHT
TZOFFSETFROM:-0500
TZOFFSETTO:-0400
TZNAME:EDT
DTSTART:20260308T070000
END:DAYLIGHT
BEGIN:STANDARD
TZOFFSETFROM:-0400
TZOFFSETTO:-0500
TZNAME:EST
DTSTART:20261101T060000
END:STANDARD
BEGIN:DAYLIGHT
TZOFFSETFROM:-0500
TZOFFSETTO:-0400
TZNAME:EDT
DTSTART:20270314T070000
END:DAYLIGHT
BEGIN:STANDARD
TZOFFSETFROM:-0400
TZOFFSETTO:-0500
TZNAME:EST
DTSTART:20271107T060000
END:STANDARD
END:VTIMEZONE
BEGIN:VEVENT
DTSTART;TZID=America/Toronto:20260301T110000
DTEND;TZID=America/Toronto:20260301T150000
DTSTAMP:20260423T050703
CREATED:20260226T193706Z
LAST-MODIFIED:20260226T193706Z
UID:707239-1772362800-1772377200@royalcitynursery.com
SUMMARY:Winter Market - Family-Friendly Activity\, Free Admission
DESCRIPTION:Join us for a Winter Market every Sunday: 11 am – 3 pm\, January 25 – March 22\, 2026. \nExplore our indoor marketplace featuring local makers\, bakers\, and a curated selection of artisans from the Guelph area. \nHosted inside our large greenhouse\, this market is the perfect getaway to escape winter for a few hours while supporting local small businesses and discovering delicious and unique items. No matter the weather\, you can enjoy a cozy Sunday afternoon at Royal City Nursery. \nStroll through our indoor space as you shop fresh-baked gourmet treats\, handmade goods\, wellness products\, art\, preserves\, and more. Grab a hot drink and sit in our café seating area\, walk through our tropical greenhouse to immerse yourself in vibrant plants\, enjoy local live music\, and connect with new and old friends. \nWe also have a variety of seeds\, seed-starting essentials\, gardening tools\, and new arrivals of tropicals & houseplants for you to take home. \nAs one of the best local markets in the Guelph and Cambridge\, Kitchener-Waterloo area\, this is a great choice for your weekend plans or a family-friendly outing as an indoor winter activity. \nMore details: \n\nFree to attend\nPet friendly (well-behaved leased pets welcome!)\nUp to 20 local vendors per week – different businesses each week – check our social media for latest updates
URL:https://royalcitynursery.com/event/winter-market-family-friendly-activity-free-admission-march1/
LOCATION:Royal City Nursery\, 6838 Wellington Road 124\, Guelph\, Ontario\, N1H 6J4\, Canada
CATEGORIES:Free,Winter Markets
ATTACH;FMTTYPE=image/png:https://royalcitynursery.com/wp-content/uploads/2026/01/Winter-Market-Guelph-Cambridge-Vendors-2026.png
END:VEVENT
BEGIN:VEVENT
DTSTART;TZID=America/Toronto:20260301T133000
DTEND;TZID=America/Toronto:20260301T141500
DTSTAMP:20260423T050703
CREATED:20260227T181429Z
LAST-MODIFIED:20260227T181429Z
UID:707250-1772371800-1772374500@royalcitynursery.com
SUMMARY:Guidance for Planning Your Veggie Garden (Free Workshop)
DESCRIPTION:Are you wondering how to improve (or start) growing your own food?\nBring your questions and come learn about: \n\nAssessing your growing space for sunlight\, water\, etc.\nWhich plants are best suited for: your growing conditions\, beginners\, heat-tolerant\, etc.\nHow to improve your soil quality\nTips for deterring squirrels & pests\nBest practices for spacing\, companion planting\, and more\n\nThere will be time for Q&A – bring your notebooks! \nFacilitated by one of our expert staff with years of horticultural experience. \nPlease RSVP on Eventbrite to save your space (and help us with planning chairs and set-up). \nBe sure to browse our Winter Markets\, 11 am – 3 pm—delicious baked goods\, local vendors\, handcrafted artisanale products\, & more—and explore our tropical greenhouse to enjoy the warmth and vibrant plants to escape the cold weather for a few moments.
URL:https://royalcitynursery.com/event/guidance-for-planning-your-veggie-garden-free-workshop/
LOCATION:Royal City Nursery\, 6838 Wellington Road 124\, Guelph\, Ontario\, N1H 6J4\, Canada
CATEGORIES:Free,Workshop
ATTACH;FMTTYPE=image/jpeg:https://royalcitynursery.com/wp-content/uploads/2026/02/Sunday-Seminars.jpg
END:VEVENT
BEGIN:VEVENT
DTSTART;TZID=America/Toronto:20260308T110000
DTEND;TZID=America/Toronto:20260308T150000
DTSTAMP:20260423T050703
CREATED:20260226T193807Z
LAST-MODIFIED:20260226T193807Z
UID:707241-1772967600-1772982000@royalcitynursery.com
SUMMARY:Winter Market - Family-Friendly Activity\, Free Admission
DESCRIPTION:Join us for a Winter Market every Sunday: 11 am – 3 pm\, January 25 – March 22\, 2026. \nExplore our indoor marketplace featuring local makers\, bakers\, and a curated selection of artisans from the Guelph area. \nHosted inside our large greenhouse\, this market is the perfect getaway to escape winter for a few hours while supporting local small businesses and discovering delicious and unique items. No matter the weather\, you can enjoy a cozy Sunday afternoon at Royal City Nursery. \nStroll through our indoor space as you shop fresh-baked gourmet treats\, handmade goods\, wellness products\, art\, preserves\, and more. Grab a hot drink and sit in our café seating area\, walk through our tropical greenhouse to immerse yourself in vibrant plants\, enjoy local live music\, and connect with new and old friends. \nWe also have a variety of seeds\, seed-starting essentials\, gardening tools\, and new arrivals of tropicals & houseplants for you to take home. \nAs one of the best local markets in the Guelph and Cambridge\, Kitchener-Waterloo area\, this is a great choice for your weekend plans or a family-friendly outing as an indoor winter activity. \nMore details: \n\nFree to attend\nPet friendly (well-behaved leased pets welcome!)\nUp to 20 local vendors per week – different businesses each week – check our social media for latest updates
URL:https://royalcitynursery.com/event/winter-market-family-friendly-activity-free-admission-3/
LOCATION:Royal City Nursery\, 6838 Wellington Road 124\, Guelph\, Ontario\, N1H 6J4\, Canada
CATEGORIES:Free,Winter Markets
ATTACH;FMTTYPE=image/png:https://royalcitynursery.com/wp-content/uploads/2026/01/Winter-Market-Guelph-Cambridge-Vendors-2026.png
END:VEVENT
BEGIN:VEVENT
DTSTART;TZID=America/Toronto:20260315T110000
DTEND;TZID=America/Toronto:20260315T150000
DTSTAMP:20260423T050703
CREATED:20260226T193939Z
LAST-MODIFIED:20260226T193939Z
UID:707243-1773572400-1773586800@royalcitynursery.com
SUMMARY:Winter Market — Family-Friendly Activity\, Free Admission
DESCRIPTION:Join us for a Winter Market every Sunday: 11 am – 3 pm\, January 25 – March 22\, 2026. \nExplore our indoor marketplace featuring local makers\, bakers\, and a curated selection of artisans from the Guelph area. \nHosted inside our large greenhouse\, this market is the perfect getaway to escape winter for a few hours while supporting local small businesses and discovering delicious and unique items. No matter the weather\, you can enjoy a cozy Sunday afternoon at Royal City Nursery. \nStroll through our indoor space as you shop fresh-baked gourmet treats\, handmade goods\, wellness products\, art\, preserves\, and more. Grab a hot drink and sit in our café seating area\, walk through our tropical greenhouse to immerse yourself in vibrant plants\, enjoy local live music\, and connect with new and old friends. \nWe also have a variety of seeds\, seed-starting essentials\, gardening tools\, and new arrivals of tropicals & houseplants for you to take home. \nAs one of the best local markets in the Guelph and Cambridge\, Kitchener-Waterloo area\, this is a great choice for your weekend plans or a family-friendly outing as an indoor winter activity. \nMore details: \n\nFree to attend\nPet friendly (well-behaved leased pets welcome!)\nUp to 20 local vendors per week – different businesses each week – check our social media for latest updates
URL:https://royalcitynursery.com/event/winter-market-family-friendly-activity-free-admission-4/
LOCATION:Royal City Nursery\, 6838 Wellington Road 124\, Guelph\, Ontario\, N1H 6J4\, Canada
CATEGORIES:Free,Winter Markets
END:VEVENT
BEGIN:VEVENT
DTSTART;TZID=America/Toronto:20260316T100000
DTEND;TZID=America/Toronto:20260320T170000
DTSTAMP:20260423T050703
CREATED:20260317T134137Z
LAST-MODIFIED:20260317T134137Z
UID:707772-1773655200-1774026000@royalcitynursery.com
SUMMARY:March Break 2026 — Free Kids' Activities
DESCRIPTION:Come visit during March Break for some fun & educational FREE kids’ activities! \nDrop-in during our open hours (10 am – 5 pm) on Monday – Friday\, March 16 – 20\, for: \n\nChalk art – draw and doodle on our greenhouse floor to your heart’s content\nJenga\nHopscotch\nScavenger hunt – complete the hunt & win a small prize\nConnect 4\nColouring station\nBotany & plant ID matching games\n\nNote: Saturday is “Books & Blooms” vendor market (10 am – 4 pm) and most of the above activities will not be set up\, but you are welcome to come visit to explore the market (free admission). \nSunday March 22 is our Winter Market (11 am – 3 pm) which will have live ALPACAS visiting so be sure to come by! \nMore kids’ activities at our “Earth Day Birthday” weekend extravaganza\, Saturday April 18 & Sunday April 19.
URL:https://royalcitynursery.com/event/march-break-2026-free-kids-activities/
LOCATION:Royal City Nursery\, 6838 Wellington Road 124\, Guelph\, Ontario\, N1H 6J4\, Canada
CATEGORIES:Free
END:VEVENT
BEGIN:VEVENT
DTSTART;TZID=America/Toronto:20260321T100000
DTEND;TZID=America/Toronto:20260321T160000
DTSTAMP:20260423T050703
CREATED:20260311T180329Z
LAST-MODIFIED:20260311T180329Z
UID:707586-1774087200-1774108800@royalcitynursery.com
SUMMARY:Book Club Market: Books & Blooms
DESCRIPTION: Join us for the Book Club Market where you can shop for unique handmade goods curated for book lovers alike. \n\n\n\n\n🌸 Books & Blooms: A Spring Book Club Market\nBooks & Blooms blends the nostalgic charm of a Scholastic-style book fair with the bright energy of spring in full bloom. Hosted inside the greenhouse at Royal City Nursery\, this one-day event is the perfect seasonal outing for readers\, plant lovers\, and anyone looking to welcome spring with something new. \nWhether you’re browsing for your next great read or searching for the perfect spring plant to bring home\, this market invites you to slow down\, wander\, and discover both. \n🌿 What to Experience\nBrowse & Shop\nExplore a curated selection of book-inspired goods\, botanical art\, stationery\, candles\, cozy reading accessories\, and handcrafted treasures — all surrounded by lush greenery and seasonal plants. \nFind Your Next Spring Plant\nTake your time exploring Royal City Nursery’s greenhouse while you shop the market. Discover fresh houseplants\, herbs\, florals\, and early-season greenery to pair with your new favorite book. \nBook Swap Station\nBring a book you love and trade it for something new — complete with library cards to leave a note for the next reader. \nBook Chat Lounge\nSettle into a welcoming space to meet fellow readers and share your latest recommendations. \nLive Readings & Features\nEnjoy special guest appearances\, author moments\, and community storytelling throughout the day. \nWorkshops & Interactive Activities\nParticipate in creative drop-in experiences designed to celebrate stories\, creativity\, and the season. \n📖🌱 Why Attend?\nIf you’re a reader\, a plant enthusiast\, or someone who simply loves a cozy greenhouse stroll in early spring\, Books & Blooms is designed for you. It’s the perfect excuse to refresh your bookshelf and your home with something green. \nFree entry + free parking.
URL:https://royalcitynursery.com/event/book-club-market-books-blooms/
LOCATION:Royal City Nursery\, 6838 Wellington Road 124\, Guelph\, Ontario\, N1H 6J4\, Canada
CATEGORIES:Free
ATTACH;FMTTYPE=image/jpeg:https://royalcitynursery.com/wp-content/uploads/2026/03/books-blooms-horizontal-vendor-market-guelph-.jpg
END:VEVENT
BEGIN:VEVENT
DTSTART;TZID=America/Toronto:20260322T110000
DTEND;TZID=America/Toronto:20260322T150000
DTSTAMP:20260423T050703
CREATED:20260226T194219Z
LAST-MODIFIED:20260226T194758Z
UID:707245-1774177200-1774191600@royalcitynursery.com
SUMMARY:Winter Market — Family-Friendly Activity\, Free Admission
DESCRIPTION:Join us for a Winter Market every Sunday: 11 am – 3 pm\, January 25 – March 22\, 2026. \nExplore our indoor marketplace featuring local makers\, bakers\, and a curated selection of artisans from the Guelph area. \nHosted inside our large greenhouse\, this market is the perfect getaway to escape winter for a few hours while supporting local small businesses and discovering delicious and unique items. No matter the weather\, you can enjoy a cozy Sunday afternoon at Royal City Nursery. \nStroll through our indoor space as you shop fresh-baked gourmet treats\, handmade goods\, wellness products\, art\, preserves\, and more. Grab a hot drink and sit in our café seating area\, walk through our tropical greenhouse to immerse yourself in vibrant plants\, enjoy local live music\, and connect with new and old friends. \nWe also have a variety of seeds\, seed-starting essentials\, gardening tools\, and new arrivals of tropicals & houseplants for you to take home. \nAs one of the best local markets in the Guelph and Cambridge\, Kitchener-Waterloo area\, this is a great choice for your weekend plans or a family-friendly outing as an indoor winter activity. \nMore details: \n\nFree to attend\nPet friendly (well-behaved leased pets welcome!)\nUp to 20 local vendors per week – different businesses each week – check our social media for latest updates
URL:https://royalcitynursery.com/event/winter-market-family-friendly-activity-free-admission-march22/
LOCATION:Royal City Nursery\, 6838 Wellington Road 124\, Guelph\, Ontario\, N1H 6J4\, Canada
CATEGORIES:Free,Winter Markets
ATTACH;FMTTYPE=image/png:https://royalcitynursery.com/wp-content/uploads/2026/01/Winter-Market-Guelph-Cambridge-Vendors-2026.png
END:VEVENT
END:VCALENDAR