BEGIN:VCALENDAR
VERSION:2.0
PRODID:-//Royal City Nursery - ECPv6.15.13//NONSGML v1.0//EN
CALSCALE:GREGORIAN
METHOD:PUBLISH
X-ORIGINAL-URL:https://royalcitynursery.com
X-WR-CALDESC:Events for Royal City Nursery
REFRESH-INTERVAL;VALUE=DURATION:PT1H
X-Robots-Tag:noindex
X-PUBLISHED-TTL:PT1H
BEGIN:VTIMEZONE
TZID:America/Toronto
BEGIN:DAYLIGHT
TZOFFSETFROM:-0500
TZOFFSETTO:-0400
TZNAME:EDT
DTSTART:20250309T070000
END:DAYLIGHT
BEGIN:STANDARD
TZOFFSETFROM:-0400
TZOFFSETTO:-0500
TZNAME:EST
DTSTART:20251102T060000
END:STANDARD
BEGIN:DAYLIGHT
TZOFFSETFROM:-0500
TZOFFSETTO:-0400
TZNAME:EDT
DTSTART:20260308T070000
END:DAYLIGHT
BEGIN:STANDARD
TZOFFSETFROM:-0400
TZOFFSETTO:-0500
TZNAME:EST
DTSTART:20261101T060000
END:STANDARD
BEGIN:DAYLIGHT
TZOFFSETFROM:-0500
TZOFFSETTO:-0400
TZNAME:EDT
DTSTART:20270314T070000
END:DAYLIGHT
BEGIN:STANDARD
TZOFFSETFROM:-0400
TZOFFSETTO:-0500
TZNAME:EST
DTSTART:20271107T060000
END:STANDARD
END:VTIMEZONE
BEGIN:VEVENT
DTSTART;TZID=America/Toronto:20260215T110000
DTEND;TZID=America/Toronto:20260215T150000
DTSTAMP:20260423T063803
CREATED:20260214T214421Z
LAST-MODIFIED:20260214T214421Z
UID:706770-1771153200-1771167600@royalcitynursery.com
SUMMARY:Winter Market - Family-Friendly Activity\, Free Admission
DESCRIPTION:Join us for a Winter Market every Sunday: 11 am – 3 pm\, January 25 – March 22\, 2026. \nExplore our indoor marketplace featuring local makers\, bakers\, and a curated selection of artisans from the Guelph area. \nHosted inside our large greenhouse\, this market is the perfect getaway to escape winter for a few hours while supporting local small businesses and discovering delicious and unique items. No matter the weather\, you can enjoy a cozy Sunday afternoon at Royal City Nursery. \nStroll through our indoor space as you shop fresh-baked gourmet treats\, handmade goods\, wellness products\, art\, preserves\, and more. Grab a hot drink and sit in our café seating area\, walk through our tropical greenhouse to immerse yourself in vibrant plants\, enjoy local live music\, and connect with new and old friends. \nWe also have a variety of seeds\, seed-starting essentials\, gardening tools\, and new arrivals of tropicals & houseplants for you to take home. \nAs one of the best local markets in the Guelph and Cambridge\, Kitchener-Waterloo area\, this is a great choice for your weekend plans or a family-friendly outing as an indoor winter activity. \nMore details: \n\nFree to attend\nPet friendly (well-behaved leased pets welcome!)\nUp to 20 local vendors per week – different businesses each week – check our social media for latest updates
URL:https://royalcitynursery.com/event/winter-market-family-friendly-activity-free-admission-2/
LOCATION:Royal City Nursery\, 6838 Wellington Road 124\, Guelph\, Ontario\, N1H 6J4\, Canada
CATEGORIES:Free,Winter Markets
ATTACH;FMTTYPE=image/png:https://royalcitynursery.com/wp-content/uploads/2026/01/Winter-Market-Guelph-Cambridge-Vendors-2026.png
END:VEVENT
BEGIN:VEVENT
DTSTART;TZID=America/Toronto:20260215T133000
DTEND;TZID=America/Toronto:20260215T141500
DTSTAMP:20260423T063803
CREATED:20260213T164625Z
LAST-MODIFIED:20260213T164742Z
UID:706620-1771162200-1771164900@royalcitynursery.com
SUMMARY:How to Start Winter Sowing & More Seed-Starting Tips
DESCRIPTION:Learn how to use winter sowing to start your garden this year\, and other seed-starting tips in this free seminar\n\n\n\nReady to get your garden going? Looking for some expert guidance about seed starting & winter sowing? \nIn this free seminar\, learn about: \n\nWhy winter sowing can be a great choice\nDifferent container options & what you need\nWhich seeds are best suited for winter sowing\nWhat seeds to start in February for our growing zone\n\nThere will also be time for Q&A – bring your questions and your notebooks! \nTaught by one of our expert staff with years of horticultural experience. \nPlease RSVP on Eventbrite to save your space (and help us with planning chairs and set-up).
URL:https://royalcitynursery.com/event/how-to-start-winter-sowing-more-seed-starting-tips/
LOCATION:Royal City Nursery\, 6838 Wellington Road 124\, Guelph\, Ontario\, N1H 6J4\, Canada
CATEGORIES:Free
END:VEVENT
BEGIN:VEVENT
DTSTART;TZID=America/Toronto:20260222T100000
DTEND;TZID=America/Toronto:20260222T150000
DTSTAMP:20260423T063803
CREATED:20260222T145051Z
LAST-MODIFIED:20260222T145051Z
UID:707093-1771754400-1771772400@royalcitynursery.com
SUMMARY:Job Fair
DESCRIPTION:We are hiring!\n\nTell your family and friends\, apply now & come to one of our upcoming job fairs – Feb. 22 or March 15th\n\nChat with our friendly staff and learn more about what it’s like to work at Royal City Nursery.\n\nPositions available include:– Skilled Landscapers– Semi-Skilled Landscapers– Garden Centre Associates\n\nBring your resume & be ready for an interview.\nLearn more on our website: https://royalcitynursery.com/employment/
URL:https://royalcitynursery.com/event/job-fair/
LOCATION:Royal City Nursery\, 6838 Wellington Road 124\, Guelph\, Ontario\, N1H 6J4\, Canada
CATEGORIES:Free
ATTACH;FMTTYPE=image/jpeg:https://royalcitynursery.com/wp-content/uploads/2026/02/job-fair-feb2026-1.jpg
END:VEVENT
END:VCALENDAR